BEGIN:VCALENDAR
CALSCALE:GREGORIAN
PRODID:-//Ben Fortuna//iCal4j 1.0//EN
VERSION:2.0
BEGIN:VEVENT
DTSTAMP:20260121T200010Z
DTSTART:20260122T090000
DTEND:20260122T110000
SUMMARY:H. 645 - An act relating to identity verification in real propert
 y transactions\n\nWitness testimony\n\nRep. Eric Maguire\, Resident\, Ru
 tland City\n\nPeter Tucker\, Advocacy & Public Policy Director\, Vermont
  Association of Realtors\n\nChris D'Elia\, President\, Vermont Bankers' 
 Association\n\nCarol Dawes\, Treasurer\, City of Barre\n\nBobbi Brimblec
 omb\, Town Clerk\, Town of Marshfield\n\nTanya Marshall\, State Archivis
 t and Chief Records Officer\, Vermont State Archives and Records Adminis
 tration\, Vermont Secretary of State\n\nLauren Hibbert\, Deputy Secretar
 y of State\, Secretary of State's Office - Room M106
TZID:America/New_York
UID:20260121T200104Z-uidGen@richgoldman-357e73
END:VEVENT
BEGIN:VALARM
TRIGGER:-PT15M
ACTION:DISPLAY
DESCRIPTION:H. 645 - An act relating to identity verification in real pro
 perty transactions\n\nWitness testimony\n\nRep. Eric Maguire\, Resident\
 , Rutland City\n\nPeter Tucker\, Advocacy & Public Policy Director\, Ver
 mont Association of Realtors\n\nChris D'Elia\, President\, Vermont Banke
 rs' Association\n\nCarol Dawes\, Treasurer\, City of Barre\n\nBobbi Brim
 blecomb\, Town Clerk\, Town of Marshfield\n\nTanya Marshall\, State Arch
 ivist and Chief Records Officer\, Vermont State Archives and Records Adm
 inistration\, Vermont Secretary of State\n\nLauren Hibbert\, Deputy Secr
 etary of State\, Secretary of State's Office - Room M106
END:VALARM
END:VCALENDAR
