BEGIN:VCALENDAR
CALSCALE:GREGORIAN
PRODID:-//Ben Fortuna//iCal4j 1.0//EN
VERSION:2.0
BEGIN:VEVENT
DTSTAMP:20260122T160010Z
DTSTART:20260122T090000
DTEND:20260122T110000
SUMMARY:S. 183 - An act relating to home improvement and land improvement
  fraud\n\nWitness Testimony\n\nKim McManus\, Legislative Attorney\, Depa
 rtment of State's Attorneys and Sheriffs\n\nTodd Daloz\, Director of Pol
 icy and Legislative Affairs\, Attorney General's Office - Room 1
TZID:America/New_York
UID:20260122T160023Z-uidGen@richgoldman-357e73
END:VEVENT
BEGIN:VALARM
TRIGGER:-PT15M
ACTION:DISPLAY
DESCRIPTION:S. 183 - An act relating to home improvement and land improve
 ment fraud\n\nWitness Testimony\n\nKim McManus\, Legislative Attorney\, 
 Department of State's Attorneys and Sheriffs\n\nTodd Daloz\, Director of
  Policy and Legislative Affairs\, Attorney General's Office - Room 1
END:VALARM
END:VCALENDAR
