BEGIN:VCALENDAR
CALSCALE:GREGORIAN
PRODID:-//Ben Fortuna//iCal4j 1.0//EN
VERSION:2.0
BEGIN:VEVENT
DTSTAMP:20260121T150010Z
DTSTART:20260122T092900
DTEND:20260122T112900
SUMMARY:H. 545 - An act relating to issuing immunization recommendations\
 n\nNolan Langweil\, Principal Fiscal Analyst\, Joint Fiscal Office - Roo
 m 45
TZID:America/New_York
UID:20260121T150118Z-uidGen@richgoldman-357e73
END:VEVENT
BEGIN:VALARM
TRIGGER:-PT15M
ACTION:DISPLAY
DESCRIPTION:H. 545 - An act relating to issuing immunization recommendati
 ons\n\nNolan Langweil\, Principal Fiscal Analyst\, Joint Fiscal Office -
  Room 45
END:VALARM
END:VCALENDAR
