BEGIN:VCALENDAR
CALSCALE:GREGORIAN
PRODID:-//Ben Fortuna//iCal4j 1.0//EN
VERSION:2.0
BEGIN:VEVENT
DTSTAMP:20260120T220010Z
DTSTART:20260122T094500
DTEND:20260122T114500
SUMMARY:Miscellaneous DMV Bill\n\nWalk-through\n\nDamien Leonard\, Legisl
 ative Counsel\, Office of Legislative Counsel - Invited - Room 3
TZID:America/New_York
UID:20260120T220047Z-uidGen@richgoldman-357e73
END:VEVENT
BEGIN:VALARM
TRIGGER:-PT15M
ACTION:DISPLAY
DESCRIPTION:Miscellaneous DMV Bill\n\nWalk-through\n\nDamien Leonard\, Le
 gislative Counsel\, Office of Legislative Counsel - Invited - Room 3
END:VALARM
END:VCALENDAR
