BEGIN:VCALENDAR
CALSCALE:GREGORIAN
PRODID:-//Ben Fortuna//iCal4j 1.0//EN
VERSION:2.0
BEGIN:VEVENT
DTSTAMP:20260121T200010Z
DTSTART:20260122T094500
DTEND:20260122T114500
SUMMARY:26-0743 - An act relating to miscellaneous motor vehicles bill\n\
 nWalk-through\n\nDamien Leonard\, Legislative Counsel\, Office of Legisl
 ative Counsel\n\nMatthew Rousseau\, Deputy Commissioner\, Department of 
 Motor Vehicles - Room 3
TZID:America/New_York
UID:20260121T200111Z-uidGen@richgoldman-357e73
END:VEVENT
BEGIN:VALARM
TRIGGER:-PT15M
ACTION:DISPLAY
DESCRIPTION:26-0743 - An act relating to miscellaneous motor vehicles bil
 l\n\nWalk-through\n\nDamien Leonard\, Legislative Counsel\, Office of Le
 gislative Counsel\n\nMatthew Rousseau\, Deputy Commissioner\, Department
  of Motor Vehicles - Room 3
END:VALARM
END:VCALENDAR
