BEGIN:VCALENDAR
CALSCALE:GREGORIAN
PRODID:-//Ben Fortuna//iCal4j 1.0//EN
VERSION:2.0
BEGIN:VEVENT
DTSTAMP:20260120T190010Z
DTSTART:20260122T090000
DTEND:20260122T110000
SUMMARY:H. 632 - An act relating to miscellaneous environmental amendment
 s\n\nEmergency Rulemaking Authority\n\nEsq. Jordan Gonda\, Esq.\, Associ
 ate General Counsel\, Department of Environmental Conservation - Room EA
 
TZID:America/New_York
UID:20260120T190149Z-uidGen@richgoldman-357e73
END:VEVENT
BEGIN:VALARM
TRIGGER:-PT15M
ACTION:DISPLAY
DESCRIPTION:H. 632 - An act relating to miscellaneous environmental amend
 ments\n\nEmergency Rulemaking Authority\n\nEsq. Jordan Gonda\, Esq.\, As
 sociate General Counsel\, Department of Environmental Conservation - Roo
 m EA
END:VALARM
END:VCALENDAR
