BEGIN:VCALENDAR
CALSCALE:GREGORIAN
PRODID:-//Ben Fortuna//iCal4j 1.0//EN
VERSION:2.0
BEGIN:VEVENT
DTSTAMP:20260122T160010Z
DTSTART:20260122T091500
DTEND:20260122T111500
SUMMARY:Blueprint for Health\n\nJohn M. Saroyan\, M.D.\, Executive Direct
 or\, Blueprint for Health\, Agency of Human Services\n\nAddie Armstrong\
 , Ph.D.\, Health Services Researcher\, Blueprint for Health\, Agency of 
 Human Services - Room 17
TZID:America/New_York
UID:20260122T160035Z-uidGen@richgoldman-357e73
END:VEVENT
BEGIN:VALARM
TRIGGER:-PT15M
ACTION:DISPLAY
DESCRIPTION:Blueprint for Health\n\nJohn M. Saroyan\, M.D.\, Executive Di
 rector\, Blueprint for Health\, Agency of Human Services\n\nAddie Armstr
 ong\, Ph.D.\, Health Services Researcher\, Blueprint for Health\, Agency
  of Human Services - Room 17
END:VALARM
END:VCALENDAR
