BEGIN:VCALENDAR
CALSCALE:GREGORIAN
PRODID:-//Ben Fortuna//iCal4j 1.0//EN
VERSION:2.0
BEGIN:VEVENT
DTSTAMP:20260122T160010Z
DTSTART:20260122T091000
DTEND:20260122T111000
SUMMARY:S. 174 - An act relating to the study of Green Bank models to sup
 port and accelerate investments in climate mitigation infrastructure\, f
 arming\, and agriculture in Vermont\n\nBill Introduction and Walk Throug
 h\n\nSen. Anne Watson\, \, Sponsor\n\nMaria Royle\, Legislative Counsel\
 , Office of Legislative Counsel - Room 8
TZID:America/New_York
UID:20260122T160030Z-uidGen@richgoldman-357e73
END:VEVENT
BEGIN:VALARM
TRIGGER:-PT15M
ACTION:DISPLAY
DESCRIPTION:S. 174 - An act relating to the study of Green Bank models to
  support and accelerate investments in climate mitigation infrastructure
 \, farming\, and agriculture in Vermont\n\nBill Introduction and Walk Th
 rough\n\nSen. Anne Watson\, \, Sponsor\n\nMaria Royle\, Legislative Coun
 sel\, Office of Legislative Counsel - Room 8
END:VALARM
END:VCALENDAR
