BEGIN:VCALENDAR
CALSCALE:GREGORIAN
PRODID:-//Ben Fortuna//iCal4j 1.0//EN
VERSION:2.0
BEGIN:VEVENT
DTSTAMP:20260120T130026Z
DTSTART:20260122T091000
DTEND:20260122T111000
SUMMARY:NEK Day\n\nKelsey Stavseth\, Executive Director\, Northeast Kingd
 om Human Services - Room 46
TZID:America/New_York
UID:20260120T130031Z-uidGen@richgoldman-357e73
END:VEVENT
BEGIN:VALARM
TRIGGER:-PT15M
ACTION:DISPLAY
DESCRIPTION:NEK Day\n\nKelsey Stavseth\, Executive Director\, Northeast K
 ingdom Human Services - Room 46
END:VALARM
END:VCALENDAR
