BEGIN:VCALENDAR
CALSCALE:GREGORIAN
PRODID:-//Ben Fortuna//iCal4j 1.0//EN
VERSION:2.0
BEGIN:VEVENT
DTSTAMP:20260122T160010Z
DTSTART:20260122T091000
DTEND:20260122T111000
SUMMARY:Vermont Food Bank\n\nCarrie Stahler\, Senior Government Affairs M
 anager\, Vermont Foodbank - Room 46
TZID:America/New_York
UID:20260122T160026Z-uidGen@richgoldman-357e73
END:VEVENT
BEGIN:VALARM
TRIGGER:-PT15M
ACTION:DISPLAY
DESCRIPTION:Vermont Food Bank\n\nCarrie Stahler\, Senior Government Affai
 rs Manager\, Vermont Foodbank - Room 46
END:VALARM
END:VCALENDAR
