BEGIN:VCALENDAR
CALSCALE:GREGORIAN
PRODID:-//Ben Fortuna//iCal4j 1.0//EN
VERSION:2.0
BEGIN:VEVENT
DTSTAMP:20260122T160010Z
DTSTART:20260122T091000
DTEND:20260122T111000
SUMMARY:S. 230 - An act relating to flexible working arrangements\n\nSen.
  Andrew Perchlik\, Chair\, Senate Committee on Appropriations\n\nSophie 
 Zdatny\, Legislative Counsel\, Office of Legislative Counsel\n\nCary Bro
 wn\, Executive Director\, Vermont Commission on Women - Room 27
TZID:America/New_York
UID:20260122T160028Z-uidGen@richgoldman-357e73
END:VEVENT
BEGIN:VALARM
TRIGGER:-PT15M
ACTION:DISPLAY
DESCRIPTION:S. 230 - An act relating to flexible working arrangements\n\n
 Sen. Andrew Perchlik\, Chair\, Senate Committee on Appropriations\n\nSop
 hie Zdatny\, Legislative Counsel\, Office of Legislative Counsel\n\nCary
  Brown\, Executive Director\, Vermont Commission on Women - Room 27
END:VALARM
END:VCALENDAR
