BEGIN:VCALENDAR
CALSCALE:GREGORIAN
PRODID:-//Ben Fortuna//iCal4j 1.0//EN
VERSION:2.0
BEGIN:VEVENT
DTSTAMP:20260121T160010Z
DTSTART:20260122T093000
DTEND:20260122T113000
SUMMARY:Vermont Foodbank\n\nJohn Sayles\, CEO\, Vermont Foodbank\n\nBob C
 happelle\, Owner\, Chappelle's Vermont Potatoes\n\nHilary Martin\, Co-ow
 ner\, Digger's Mirth Collective Farm - Room 35
TZID:America/New_York
UID:20260121T160120Z-uidGen@richgoldman-357e73
END:VEVENT
BEGIN:VALARM
TRIGGER:-PT15M
ACTION:DISPLAY
DESCRIPTION:Vermont Foodbank\n\nJohn Sayles\, CEO\, Vermont Foodbank\n\nB
 ob Chappelle\, Owner\, Chappelle's Vermont Potatoes\n\nHilary Martin\, C
 o-owner\, Digger's Mirth Collective Farm - Room 35
END:VALARM
END:VCALENDAR
