BEGIN:VCALENDAR
CALSCALE:GREGORIAN
PRODID:-//Ben Fortuna//iCal4j 1.0//EN
VERSION:2.0
BEGIN:VEVENT
DTSTAMP:20260122T160010Z
DTSTART:20260122T093000
DTEND:20260122T113000
SUMMARY:Municipal Regulation of Agriculture\n\nStakeholder Testimony\n\nM
 addie Kempner\, Policy Director\, NOFA-VT - Invited\n\nTravis Longway\, 
 Farmer\, Longway Farm\, St Albans - Zoom\n\nAlex Thibault\, Farmer\, RN 
 Thibault Farm\, Colchester\n\nOliver Manning\, Manning Dairy LLC\n\nMega
 n Rowell\, Green Mountain Farm\, Sheldon\, VT\n\nDavid Defreest\, Defree
 st Farms\, Warren\, VT\n\nLance Wood\, Woodnotch Dairy\, Shoreham\, VT\n
 \nKylie Chittenden\, Vermont Dairy Producers Association member\, Richvi
 lle Farm - Room 49
TZID:America/New_York
UID:20260122T160039Z-uidGen@richgoldman-357e73
END:VEVENT
BEGIN:VALARM
TRIGGER:-PT15M
ACTION:DISPLAY
DESCRIPTION:Municipal Regulation of Agriculture\n\nStakeholder Testimony\
 n\nMaddie Kempner\, Policy Director\, NOFA-VT - Invited\n\nTravis Longwa
 y\, Farmer\, Longway Farm\, St Albans - Zoom\n\nAlex Thibault\, Farmer\,
  RN Thibault Farm\, Colchester\n\nOliver Manning\, Manning Dairy LLC\n\n
 Megan Rowell\, Green Mountain Farm\, Sheldon\, VT\n\nDavid Defreest\, De
 freest Farms\, Warren\, VT\n\nLance Wood\, Woodnotch Dairy\, Shoreham\, 
 VT\n\nKylie Chittenden\, Vermont Dairy Producers Association member\, Ri
 chville Farm - Room 49
END:VALARM
END:VCALENDAR
