BEGIN:VCALENDAR
CALSCALE:GREGORIAN
PRODID:-//Ben Fortuna//iCal4j 1.0//EN
VERSION:2.0
BEGIN:VEVENT
DTSTAMP:20260121T160010Z
DTSTART:20260122T093000
DTEND:20260122T113000
SUMMARY:S. 197 - An act relating to establishing a primary care payment r
 eform program\n\nWalkthrough\n\nJennifer Carbee\, Deputy Chief Counsel\,
  Office of Legislative Counsel\n\nM.D. Jessa Barnard\, Executive Directo
 r\, Vermont Medical Society\n\nJohn M. Saroyan\, M.D.\, Executive Direct
 or\, Blueprint for Health\, Agency of Human Services - Invited - Room 17
 
TZID:America/New_York
UID:20260121T160122Z-uidGen@richgoldman-357e73
END:VEVENT
BEGIN:VALARM
TRIGGER:-PT15M
ACTION:DISPLAY
DESCRIPTION:S. 197 - An act relating to establishing a primary care payme
 nt reform program\n\nWalkthrough\n\nJennifer Carbee\, Deputy Chief Couns
 el\, Office of Legislative Counsel\n\nM.D. Jessa Barnard\, Executive Dir
 ector\, Vermont Medical Society\n\nJohn M. Saroyan\, M.D.\, Executive Di
 rector\, Blueprint for Health\, Agency of Human Services - Invited - Roo
 m 17
END:VALARM
END:VCALENDAR
