BEGIN:VCALENDAR
CALSCALE:GREGORIAN
PRODID:-//Ben Fortuna//iCal4j 1.0//EN
VERSION:2.0
BEGIN:VEVENT
DTSTAMP:20260120T130026Z
DTSTART:20260122T092000
DTEND:20260122T112000
SUMMARY:NEK Day\n\nDenise Walton\, Sid's Pantry - Room 46
TZID:America/New_York
UID:20260120T130033Z-uidGen@richgoldman-357e73
END:VEVENT
BEGIN:VALARM
TRIGGER:-PT15M
ACTION:DISPLAY
DESCRIPTION:NEK Day\n\nDenise Walton\, Sid's Pantry - Room 46
END:VALARM
END:VCALENDAR
