BEGIN:VCALENDAR
CALSCALE:GREGORIAN
PRODID:-//Ben Fortuna//iCal4j 1.0//EN
VERSION:2.0
BEGIN:VEVENT
DTSTAMP:20260120T130026Z
DTSTART:20260122T093000
DTEND:20260122T113000
SUMMARY:NEK Day\n\nCrystal Bigelow\, Northeastern Vermont Regional Hospit
 al\n\nErica Beer\, Northeastern Vermont Regional Hospital - Room 46
TZID:America/New_York
UID:20260120T130036Z-uidGen@richgoldman-357e73
END:VEVENT
BEGIN:VALARM
TRIGGER:-PT15M
ACTION:DISPLAY
DESCRIPTION:NEK Day\n\nCrystal Bigelow\, Northeastern Vermont Regional Ho
 spital\n\nErica Beer\, Northeastern Vermont Regional Hospital - Room 46
END:VALARM
END:VCALENDAR
