BEGIN:VCALENDAR
CALSCALE:GREGORIAN
PRODID:-//Ben Fortuna//iCal4j 1.0//EN
VERSION:2.0
BEGIN:VEVENT
DTSTAMP:20260121T230011Z
DTSTART:20260122T093000
DTEND:20260122T113000
SUMMARY:Career Technical Education\n\nRuth Durkee\, State Director of Car
 eer Technical Education\, Agency of Education\n\nZoie Saunders\, Secreta
 ry\, Agency of Education - Room 27
TZID:America/New_York
UID:20260121T230011Z-uidGen@richgoldman-357e73
END:VEVENT
BEGIN:VALARM
TRIGGER:-PT15M
ACTION:DISPLAY
DESCRIPTION:Career Technical Education\n\nRuth Durkee\, State Director of
  Career Technical Education\, Agency of Education\n\nZoie Saunders\, Sec
 retary\, Agency of Education - Room 27
END:VALARM
END:VCALENDAR
