BEGIN:VCALENDAR
CALSCALE:GREGORIAN
PRODID:-//Ben Fortuna//iCal4j 1.0//EN
VERSION:2.0
BEGIN:VEVENT
DTSTAMP:20260120T220010Z
DTSTART:20260122T101500
DTEND:20260122T121500
SUMMARY:Agency of Transportation FY27 Budget Overview\n\nMunicipal Progra
 ms\, Grant Programs\, Park & Rides\n\nJeremy Reed\, Chief Engineer of th
 e Highway Division\, Agency of Transportation\n\nJoel Perrigo\, Municipa
 l Assistance Program Manager\, Agency of Transportation\n\nRob White\, P
 roject Delivery Bureau\, Agency of Transportation\n\nJennifer Fitch\, Pr
 oject Delivery Bureau\, Agency of Transportation - Room 3
TZID:America/New_York
UID:20260120T220053Z-uidGen@richgoldman-357e73
END:VEVENT
BEGIN:VALARM
TRIGGER:-PT15M
ACTION:DISPLAY
DESCRIPTION:Agency of Transportation FY27 Budget Overview\n\nMunicipal Pr
 ograms\, Grant Programs\, Park & Rides\n\nJeremy Reed\, Chief Engineer o
 f the Highway Division\, Agency of Transportation\n\nJoel Perrigo\, Muni
 cipal Assistance Program Manager\, Agency of Transportation\n\nRob White
 \, Project Delivery Bureau\, Agency of Transportation\n\nJennifer Fitch\
 , Project Delivery Bureau\, Agency of Transportation - Room 3
END:VALARM
END:VCALENDAR
