BEGIN:VCALENDAR
CALSCALE:GREGORIAN
PRODID:-//Ben Fortuna//iCal4j 1.0//EN
VERSION:2.0
BEGIN:VEVENT
DTSTAMP:20260120T190010Z
DTSTART:20260122T093000
DTEND:20260122T113000
SUMMARY:H. 632 - An act relating to miscellaneous environmental amendment
 s\n\nStormwater Impact Fees\, Regional Stormwater Utility Taskforce\, Cl
 ean Water Service Providers\n\nTerry Purcell\, Operational Section Super
 visor\, Stormwater Program\, Department of Environmental Conservation\n\
 nGianna Petito\, Clean Water Initiative Program Grants Supervisor\, Depa
 rtment of Environmental Conservation\, Water Investment Division\n\nChri
 s Rottler\, Water Investment Coordinator\, Department of Environmental C
 onservation\, Water Investment Division\n\nEthan Swift\, Program Manager
 \, Department of Environmental Conservation\, Water Investment Division\
 n\nWitness TBA\, Clean Water Service Provider - Room EA
TZID:America/New_York
UID:20260120T190155Z-uidGen@richgoldman-357e73
END:VEVENT
BEGIN:VALARM
TRIGGER:-PT15M
ACTION:DISPLAY
DESCRIPTION:H. 632 - An act relating to miscellaneous environmental amend
 ments\n\nStormwater Impact Fees\, Regional Stormwater Utility Taskforce\
 , Clean Water Service Providers\n\nTerry Purcell\, Operational Section S
 upervisor\, Stormwater Program\, Department of Environmental Conservatio
 n\n\nGianna Petito\, Clean Water Initiative Program Grants Supervisor\, 
 Department of Environmental Conservation\, Water Investment Division\n\n
 Chris Rottler\, Water Investment Coordinator\, Department of Environment
 al Conservation\, Water Investment Division\n\nEthan Swift\, Program Man
 ager\, Department of Environmental Conservation\, Water Investment Divis
 ion\n\nWitness TBA\, Clean Water Service Provider - Room EA
END:VALARM
END:VCALENDAR
