BEGIN:VCALENDAR
CALSCALE:GREGORIAN
PRODID:-//Ben Fortuna//iCal4j 1.0//EN
VERSION:2.0
BEGIN:VEVENT
DTSTAMP:20260120T160010Z
DTSTART:20260122T103000
DTEND:20260122T123000
SUMMARY:H. 527 - An act relating to extending the sunset of 30 V.S. A. §2
 48a\n\nGail Fallar\, Tinmouth Town Clerk and Treasurer - Room 32
TZID:America/New_York
UID:20260120T160100Z-uidGen@richgoldman-357e73
END:VEVENT
BEGIN:VALARM
TRIGGER:-PT15M
ACTION:DISPLAY
DESCRIPTION:H. 527 - An act relating to extending the sunset of 30 V.S. A
 . §248a\n\nGail Fallar\, Tinmouth Town Clerk and Treasurer - Room 32
END:VALARM
END:VCALENDAR
