BEGIN:VCALENDAR
CALSCALE:GREGORIAN
PRODID:-//Ben Fortuna//iCal4j 1.0//EN
VERSION:2.0
BEGIN:VEVENT
DTSTAMP:20260122T160010Z
DTSTART:20260122T094500
DTEND:20260122T114500
SUMMARY:H. 545 - An act relating to issuing immunization recommendations\
 n\nReview Burtt Amendment\n\nRep. Gregory "Greg" Burtt\, Sponsor of the 
 Amendment\n\nKatie McLinn\, Legislative Counsel\, Office of Legislative 
 Counsel\n\nLauren Layman\, General Counsel\, Department of Health - Room
  46
TZID:America/New_York
UID:20260122T160045Z-uidGen@richgoldman-357e73
END:VEVENT
BEGIN:VALARM
TRIGGER:-PT15M
ACTION:DISPLAY
DESCRIPTION:H. 545 - An act relating to issuing immunization recommendati
 ons\n\nReview Burtt Amendment\n\nRep. Gregory "Greg" Burtt\, Sponsor of 
 the Amendment\n\nKatie McLinn\, Legislative Counsel\, Office of Legislat
 ive Counsel\n\nLauren Layman\, General Counsel\, Department of Health - 
 Room 46
END:VALARM
END:VCALENDAR
