BEGIN:VCALENDAR
CALSCALE:GREGORIAN
PRODID:-//Ben Fortuna//iCal4j 1.0//EN
VERSION:2.0
BEGIN:VEVENT
DTSTAMP:20260121T150010Z
DTSTART:20260122T100000
DTEND:20260122T120000
SUMMARY:Career Technical Education Concept Overview\n\nThis will be a vir
 tual Joint Hearing with the House Committee on Education from 10:00 - 12
 :00 p.m. This will take place in Room 35 of the State House and livestre
 amed from the House Committee on Commerce and Economic Development's You
 Tube channel.\n\nZoie Saunders\, Secretary\, Agency of Education\n\nKend
 al Smith\, Commissioner\, Vermont Department of Labor\n\nJay Ramsey\, Di
 rector of Workforce Development\, Vermont Department of Labor - Room 35
TZID:America/New_York
UID:20260121T150124Z-uidGen@richgoldman-357e73
END:VEVENT
BEGIN:VALARM
TRIGGER:-PT15M
ACTION:DISPLAY
DESCRIPTION:Career Technical Education Concept Overview\n\nThis will be a
  virtual Joint Hearing with the House Committee on Education from 10:00 
 - 12:00 p.m. This will take place in Room 35 of the State House and live
 streamed from the House Committee on Commerce and Economic Development's
  YouTube channel.\n\nZoie Saunders\, Secretary\, Agency of Education\n\n
 Kendal Smith\, Commissioner\, Vermont Department of Labor\n\nJay Ramsey\
 , Director of Workforce Development\, Vermont Department of Labor - Room
  35
END:VALARM
END:VCALENDAR
