BEGIN:VCALENDAR
CALSCALE:GREGORIAN
PRODID:-//Ben Fortuna//iCal4j 1.0//EN
VERSION:2.0
BEGIN:VEVENT
DTSTAMP:20260121T170010Z
DTSTART:20260122T100000
DTEND:20260122T120000
SUMMARY:H. 577 - An act relating to establishing the Vermont Prescription
  Drug Discount Card Program\n\nTestimony\n\nCourtney Harrness\, Director
  of Legislative and Government Relations\, Blue Cross Blue Shield of Ver
 mont\n\nMary Block\, Deputy Commissioner of Insurance\, Department of Fi
 nancial Regulation\n\nJeff Hochberg\, Director\, Rutland Pharmacy - Zoom
  - Room 42
TZID:America/New_York
UID:20260121T170039Z-uidGen@richgoldman-357e73
END:VEVENT
BEGIN:VALARM
TRIGGER:-PT15M
ACTION:DISPLAY
DESCRIPTION:H. 577 - An act relating to establishing the Vermont Prescrip
 tion Drug Discount Card Program\n\nTestimony\n\nCourtney Harrness\, Dire
 ctor of Legislative and Government Relations\, Blue Cross Blue Shield of
  Vermont\n\nMary Block\, Deputy Commissioner of Insurance\, Department o
 f Financial Regulation\n\nJeff Hochberg\, Director\, Rutland Pharmacy - 
 Zoom - Room 42
END:VALARM
END:VCALENDAR
