BEGIN:VCALENDAR
CALSCALE:GREGORIAN
PRODID:-//Ben Fortuna//iCal4j 1.0//EN
VERSION:2.0
BEGIN:VEVENT
DTSTAMP:20260121T130026Z
DTSTART:20260122T095000
DTEND:20260122T115000
SUMMARY:S. 218 - An act relating to reducing chloride contamination of St
 ate waters\n\nCommittee Discussion and Vote\n\nMichael O'Grady\, Deputy 
 Chief Counsel\, Office of Legislative Counsel\n\n" - Room 8
TZID:America/New_York
UID:20260121T130026Z-uidGen@richgoldman-357e73
END:VEVENT
BEGIN:VALARM
TRIGGER:-PT15M
ACTION:DISPLAY
DESCRIPTION:S. 218 - An act relating to reducing chloride contamination o
 f State waters\n\nCommittee Discussion and Vote\n\nMichael O'Grady\, Dep
 uty Chief Counsel\, Office of Legislative Counsel\n\n" - Room 8
END:VALARM
END:VCALENDAR
