BEGIN:VCALENDAR
CALSCALE:GREGORIAN
PRODID:-//Ben Fortuna//iCal4j 1.0//EN
VERSION:2.0
BEGIN:VEVENT
DTSTAMP:20260122T160010Z
DTSTART:20260122T100000
DTEND:20260122T120000
SUMMARY:S. 212 - An act relating to potable water supply and wastewater s
 ystem connections\n\nCommittee Discussion\n\nMichael O'Grady\, Deputy Ch
 ief Counsel\, Office of Legislative Counsel - Room 8
TZID:America/New_York
UID:20260122T160101Z-uidGen@richgoldman-357e73
END:VEVENT
BEGIN:VALARM
TRIGGER:-PT15M
ACTION:DISPLAY
DESCRIPTION:S. 212 - An act relating to potable water supply and wastewat
 er system connections\n\nCommittee Discussion\n\nMichael O'Grady\, Deput
 y Chief Counsel\, Office of Legislative Counsel - Room 8
END:VALARM
END:VCALENDAR
