BEGIN:VCALENDAR
CALSCALE:GREGORIAN
PRODID:-//Ben Fortuna//iCal4j 1.0//EN
VERSION:2.0
BEGIN:VEVENT
DTSTAMP:20260120T220010Z
DTSTART:20260122T100000
DTEND:20260122T120000
SUMMARY:H. 594 - An act relating to establishing the Temporary Emergency 
 Housing and Accountability Program and the Return Home Program in fiscal
  years 2027 and 2028\n\nJenna O'Farrell\, Executive Director\, Northeast
  Kingdom Community Action\n\nPaul Dragon\, Executive Director\, Champlai
 n Valley Office of Economic Opportunity (CVOEO) - Room 46
TZID:America/New_York
UID:20260120T220050Z-uidGen@richgoldman-357e73
END:VEVENT
BEGIN:VALARM
TRIGGER:-PT15M
ACTION:DISPLAY
DESCRIPTION:H. 594 - An act relating to establishing the Temporary Emerge
 ncy Housing and Accountability Program and the Return Home Program in fi
 scal years 2027 and 2028\n\nJenna O'Farrell\, Executive Director\, North
 east Kingdom Community Action\n\nPaul Dragon\, Executive Director\, Cham
 plain Valley Office of Economic Opportunity (CVOEO) - Room 46
END:VALARM
END:VCALENDAR
