BEGIN:VCALENDAR
CALSCALE:GREGORIAN
PRODID:-//Ben Fortuna//iCal4j 1.0//EN
VERSION:2.0
BEGIN:VEVENT
DTSTAMP:20260122T160010Z
DTSTART:20260122T100000
DTEND:20260122T120000
SUMMARY:Joint Hearing\n\nThis will be a virtual Joint Hearing with the Ho
 use Committee on Commerce and Economic Development and the House Committ
 ee on Education from 10:00 - 12:00 p.m. This will take place in Room 35 
 of the State House and livestreamed from the House Committee on Commerce
  and Economic Development's YouTube channel: https://legislature.vermont
 .gov/committee/streaming/house-commerce-and-economic-development\n\nZoie
  Saunders\, Secretary\, Agency of Education\n\nJay Ramsey\, Director of 
 Workforce Development\, Vermont Department of Labor\n\nKendal Smith\, Co
 mmissioner\, Vermont Department of Labor\n\nRuth Durkee\, State Director
  of Career Technical Education\, Agency of Education - Room 27
TZID:America/New_York
UID:20260122T160056Z-uidGen@richgoldman-357e73
END:VEVENT
BEGIN:VALARM
TRIGGER:-PT15M
ACTION:DISPLAY
DESCRIPTION:Joint Hearing\n\nThis will be a virtual Joint Hearing with th
 e House Committee on Commerce and Economic Development and the House Com
 mittee on Education from 10:00 - 12:00 p.m. This will take place in Room
  35 of the State House and livestreamed from the House Committee on Comm
 erce and Economic Development's YouTube channel: https://legislature.ver
 mont.gov/committee/streaming/house-commerce-and-economic-development\n\n
 Zoie Saunders\, Secretary\, Agency of Education\n\nJay Ramsey\, Director
  of Workforce Development\, Vermont Department of Labor\n\nKendal Smith\
 , Commissioner\, Vermont Department of Labor\n\nRuth Durkee\, State Dire
 ctor of Career Technical Education\, Agency of Education - Room 27
END:VALARM
END:VCALENDAR
