BEGIN:VCALENDAR
CALSCALE:GREGORIAN
PRODID:-//Ben Fortuna//iCal4j 1.0//EN
VERSION:2.0
BEGIN:VEVENT
DTSTAMP:20260121T160010Z
DTSTART:20260122T100000
DTEND:20260122T120000
SUMMARY:Public Records Act\n\nWitness testimony\n\nJosh Hanford\, Directo
 r of Intergovernmental Affairs\, Vermont League of Cities and Towns\n\nR
 enae Marshall\, Deputy Town Manager\, Colchester\n\nDaniel Batsie\, Depu
 ty Commissioner\, Department of Public Safety\n\nTucker Jones\, General 
 Counsel\, Department of Public Safety\n\nTracey Leibowitz\, Public Recor
 ds Act Specialist\, Department of Public Safety - Room M106
TZID:America/New_York
UID:20260121T160126Z-uidGen@richgoldman-357e73
END:VEVENT
BEGIN:VALARM
TRIGGER:-PT15M
ACTION:DISPLAY
DESCRIPTION:Public Records Act\n\nWitness testimony\n\nJosh Hanford\, Dir
 ector of Intergovernmental Affairs\, Vermont League of Cities and Towns\
 n\nRenae Marshall\, Deputy Town Manager\, Colchester\n\nDaniel Batsie\, 
 Deputy Commissioner\, Department of Public Safety\n\nTucker Jones\, Gene
 ral Counsel\, Department of Public Safety\n\nTracey Leibowitz\, Public R
 ecords Act Specialist\, Department of Public Safety - Room M106
END:VALARM
END:VCALENDAR
