BEGIN:VCALENDAR
CALSCALE:GREGORIAN
PRODID:-//Ben Fortuna//iCal4j 1.0//EN
VERSION:2.0
BEGIN:VEVENT
DTSTAMP:20260120T000010Z
DTSTART:20260122T100000
DTEND:20260122T120000
SUMMARY:S. 183 - An act relating to home improvement and land improvement
  fraud\n\nWitness Testimony\n\nMatthew Valerio\, Defender General\, Defe
 nder General's Office - Room 1
TZID:America/New_York
UID:20260120T000034Z-uidGen@richgoldman-357e73
END:VEVENT
BEGIN:VALARM
TRIGGER:-PT15M
ACTION:DISPLAY
DESCRIPTION:S. 183 - An act relating to home improvement and land improve
 ment fraud\n\nWitness Testimony\n\nMatthew Valerio\, Defender General\, 
 Defender General's Office - Room 1
END:VALARM
END:VCALENDAR
