BEGIN:VCALENDAR
CALSCALE:GREGORIAN
PRODID:-//Ben Fortuna//iCal4j 1.0//EN
VERSION:2.0
BEGIN:VEVENT
DTSTAMP:20260122T160010Z
DTSTART:20260122T103000
DTEND:20260122T123000
SUMMARY:Agency of Transportation FY27 Budget\n\nPublic Transit Budget\n\n
 Ross MacDonald\, Public Transit Program Manager\, Agency of Transportati
 on\n\nDan Currier\, Public Transit Coordinator\, Agency of Transportatio
 n - Room 43
TZID:America/New_York
UID:20260122T160116Z-uidGen@richgoldman-357e73
END:VEVENT
BEGIN:VALARM
TRIGGER:-PT15M
ACTION:DISPLAY
DESCRIPTION:Agency of Transportation FY27 Budget\n\nPublic Transit Budget
 \n\nRoss MacDonald\, Public Transit Program Manager\, Agency of Transpor
 tation\n\nDan Currier\, Public Transit Coordinator\, Agency of Transport
 ation - Room 43
END:VALARM
END:VCALENDAR
