BEGIN:VCALENDAR
CALSCALE:GREGORIAN
PRODID:-//Ben Fortuna//iCal4j 1.0//EN
VERSION:2.0
BEGIN:VEVENT
DTSTAMP:20260122T160010Z
DTSTART:20260122T100000
DTEND:20260122T120000
SUMMARY:Career Technical Education Concept Overview\n\nVirtual Joint Hear
 ing with the House Committee on Commerce and Economic Development and Se
 nate Committee on Economic Development\, Housing\, and General Affairs\n
 \nThis hearing will take place in Room 35 will be livestreamed on the Ho
 use Commerce and Economic Development YouTube page: https://legislature.
 vermont.gov/committee/streaming/house-commerce-and-economic-development\
 n\nZoie Saunders\, Secretary\, Agency of Education\n\nKendal Smith\, Com
 missioner\, Vermont Department of Labor\n\nJay Ramsey\, Director of Work
 force Development\, Vermont Department of Labor - Room M103
TZID:America/New_York
UID:20260122T160050Z-uidGen@richgoldman-357e73
END:VEVENT
BEGIN:VALARM
TRIGGER:-PT15M
ACTION:DISPLAY
DESCRIPTION:Career Technical Education Concept Overview\n\nVirtual Joint 
 Hearing with the House Committee on Commerce and Economic Development an
 d Senate Committee on Economic Development\, Housing\, and General Affai
 rs\n\nThis hearing will take place in Room 35 will be livestreamed on th
 e House Commerce and Economic Development YouTube page: https://legislat
 ure.vermont.gov/committee/streaming/house-commerce-and-economic-developm
 ent\n\nZoie Saunders\, Secretary\, Agency of Education\n\nKendal Smith\,
  Commissioner\, Vermont Department of Labor\n\nJay Ramsey\, Director of 
 Workforce Development\, Vermont Department of Labor - Room M103
END:VALARM
END:VCALENDAR
