BEGIN:VCALENDAR
CALSCALE:GREGORIAN
PRODID:-//Ben Fortuna//iCal4j 1.0//EN
VERSION:2.0
BEGIN:VEVENT
DTSTAMP:20260122T170011Z
DTSTART:20260122T103000
DTEND:20260122T123000
SUMMARY:26-0727 - An act relating to miscellaneous administrative and pol
 icy changes to the tax laws\n\nRebecca Sameroff\, Deputy Commissioner\, 
 Department of Taxes\n\nJill Remick\, Director of Property Valuation and 
 Review\, Department of Taxes\n\nKirby Keeton\, Legislative Counsel\, Off
 ice of Legislative Counsel - Room 45
TZID:America/New_York
UID:20260122T170017Z-uidGen@richgoldman-357e73
END:VEVENT
BEGIN:VALARM
TRIGGER:-PT15M
ACTION:DISPLAY
DESCRIPTION:26-0727 - An act relating to miscellaneous administrative and
  policy changes to the tax laws\n\nRebecca Sameroff\, Deputy Commissione
 r\, Department of Taxes\n\nJill Remick\, Director of Property Valuation 
 and Review\, Department of Taxes\n\nKirby Keeton\, Legislative Counsel\,
  Office of Legislative Counsel - Room 45
END:VALARM
END:VCALENDAR
