BEGIN:VCALENDAR
CALSCALE:GREGORIAN
PRODID:-//Ben Fortuna//iCal4j 1.0//EN
VERSION:2.0
BEGIN:VEVENT
DTSTAMP:20260122T160010Z
DTSTART:20260122T102000
DTEND:20260122T122000
SUMMARY:FY26 Budget Adjustment Act\n\nPublic hearing requests\, committee
  discussion\, and mark up - Room 9
TZID:America/New_York
UID:20260122T160107Z-uidGen@richgoldman-357e73
END:VEVENT
BEGIN:VALARM
TRIGGER:-PT15M
ACTION:DISPLAY
DESCRIPTION:FY26 Budget Adjustment Act\n\nPublic hearing requests\, commi
 ttee discussion\, and mark up - Room 9
END:VALARM
END:VCALENDAR
