BEGIN:VCALENDAR
CALSCALE:GREGORIAN
PRODID:-//Ben Fortuna//iCal4j 1.0//EN
VERSION:2.0
BEGIN:VEVENT
DTSTAMP:20260122T170011Z
DTSTART:20260122T100500
DTEND:20260122T120500
SUMMARY:Public Records Act\n\nWitness testimony\n\nJosh Hanford\, Directo
 r of Intergovernmental Affairs\, Vermont League of Cities and Towns\n\nR
 enae Marshall\, Deputy Town Manager\, Colchester\n\nDaniel Batsie\, Depu
 ty Commissioner\, Department of Public Safety\n\nTracey Leibowitz\, Publ
 ic Records Act Specialist\, Department of Public Safety\n\nSamantha Shee
 han\, Municipal Policy and Advocacy Specialist\, Vermont League of Citie
 s and Towns - Room M106
TZID:America/New_York
UID:20260122T170014Z-uidGen@richgoldman-357e73
END:VEVENT
BEGIN:VALARM
TRIGGER:-PT15M
ACTION:DISPLAY
DESCRIPTION:Public Records Act\n\nWitness testimony\n\nJosh Hanford\, Dir
 ector of Intergovernmental Affairs\, Vermont League of Cities and Towns\
 n\nRenae Marshall\, Deputy Town Manager\, Colchester\n\nDaniel Batsie\, 
 Deputy Commissioner\, Department of Public Safety\n\nTracey Leibowitz\, 
 Public Records Act Specialist\, Department of Public Safety\n\nSamantha 
 Sheehan\, Municipal Policy and Advocacy Specialist\, Vermont League of C
 ities and Towns - Room M106
END:VALARM
END:VCALENDAR
