BEGIN:VCALENDAR
CALSCALE:GREGORIAN
PRODID:-//Ben Fortuna//iCal4j 1.0//EN
VERSION:2.0
BEGIN:VEVENT
DTSTAMP:20260122T000010Z
DTSTART:20260122T101500
DTEND:20260122T121500
SUMMARY:S. 138 - An act relating to commercial property-assessed clean en
 ergy projects\n\nAaron Ferenc\, Deputy Commissioner of Banking\, Departm
 ent of Financial Regulation\n\nNick Charyk\, Downs Rachlin Martin\, LLC 
 - Room 8
TZID:America/New_York
UID:20260122T000011Z-uidGen@richgoldman-357e73
END:VEVENT
BEGIN:VALARM
TRIGGER:-PT15M
ACTION:DISPLAY
DESCRIPTION:S. 138 - An act relating to commercial property-assessed clea
 n energy projects\n\nAaron Ferenc\, Deputy Commissioner of Banking\, Dep
 artment of Financial Regulation\n\nNick Charyk\, Downs Rachlin Martin\, 
 LLC - Room 8
END:VALARM
END:VCALENDAR
