BEGIN:VCALENDAR
CALSCALE:GREGORIAN
PRODID:-//Ben Fortuna//iCal4j 1.0//EN
VERSION:2.0
BEGIN:VEVENT
DTSTAMP:20260121T170010Z
DTSTART:20260122T110000
DTEND:20260122T130000
SUMMARY:Mileage-Based User Fee\n\nUpdate and comparison\n\nPatrick Murphy
 \, State Policy Director\, Agency of Transportation - Room 3
TZID:America/New_York
UID:20260121T170041Z-uidGen@richgoldman-357e73
END:VEVENT
BEGIN:VALARM
TRIGGER:-PT15M
ACTION:DISPLAY
DESCRIPTION:Mileage-Based User Fee\n\nUpdate and comparison\n\nPatrick Mu
 rphy\, State Policy Director\, Agency of Transportation - Room 3
END:VALARM
END:VCALENDAR
