BEGIN:VCALENDAR
CALSCALE:GREGORIAN
PRODID:-//Ben Fortuna//iCal4j 1.0//EN
VERSION:2.0
BEGIN:VEVENT
DTSTAMP:20260120T160010Z
DTSTART:20260122T111500
DTEND:20260122T131500
SUMMARY:H. 631 - An act relating to establishing energy storage goals\n\n
 Bill Introduction\n\nRep. R. Scott Campbell\, Bill Sponsor - Room 32
TZID:America/New_York
UID:20260120T160105Z-uidGen@richgoldman-357e73
END:VEVENT
BEGIN:VALARM
TRIGGER:-PT15M
ACTION:DISPLAY
DESCRIPTION:H. 631 - An act relating to establishing energy storage goals
 \n\nBill Introduction\n\nRep. R. Scott Campbell\, Bill Sponsor - Room 32
 
END:VALARM
END:VCALENDAR
