BEGIN:VCALENDAR
CALSCALE:GREGORIAN
PRODID:-//Ben Fortuna//iCal4j 1.0//EN
VERSION:2.0
BEGIN:VEVENT
DTSTAMP:20260120T150010Z
DTSTART:20260122T103000
DTEND:20260122T123000
SUMMARY:NEK Day\n\nPatrick Shattuck\, Executive Director\, RuralEdge\n\nL
 oralee Tester\, Executive Director\, Northeast Kingdom Chamber of Commer
 ce - Room 31
TZID:America/New_York
UID:20260120T150112Z-uidGen@richgoldman-357e73
END:VEVENT
BEGIN:VALARM
TRIGGER:-PT15M
ACTION:DISPLAY
DESCRIPTION:NEK Day\n\nPatrick Shattuck\, Executive Director\, RuralEdge\
 n\nLoralee Tester\, Executive Director\, Northeast Kingdom Chamber of Co
 mmerce - Room 31
END:VALARM
END:VCALENDAR
