BEGIN:VCALENDAR
CALSCALE:GREGORIAN
PRODID:-//Ben Fortuna//iCal4j 1.0//EN
VERSION:2.0
BEGIN:VEVENT
DTSTAMP:20260121T160011Z
DTSTART:20260122T104500
DTEND:20260122T124500
SUMMARY:Vermont Dairy Producers Alliance\n\nKevin Kouri\, Director of Nut
 rition and Sales\, Phoenix Feeds and Nutrition\n\nBradley St. Pierre\, P
 leasant Valley Farm\, Richford\n\nStephanie Pope\, Iroquois Acres Farm\n
 \nMegan Rowell\, Green Mountain Farm\, Sheldon\, VT\n\nSkylar Blaney\, G
 reen Mountain Farm\, Sheldon\, VT\n\nJenne Hull\, Riverview Farm\, Frank
 lin\, VT\n\nDavid Defreest\, Defreest Farms\, Warren\, VT\n\nElaine Bris
 son\, Daona Farm\, Shoreham\, VT\n\nKylie Quesnel Chittenden\, Richville
  Farms\, Shoreham\, VT\n\nLance Wood\, Woodnotch Dairy\, Shoreham\, VT\n
 \nLee Wood\, Woodnotch Dairy\, Shoreham\, VT\n\nLJ Wood\, Woodnotch Dair
 y\, Shoreham\, VT - Room 28
TZID:America/New_York
UID:20260121T160133Z-uidGen@richgoldman-357e73
END:VEVENT
BEGIN:VALARM
TRIGGER:-PT15M
ACTION:DISPLAY
DESCRIPTION:Vermont Dairy Producers Alliance\n\nKevin Kouri\, Director of
  Nutrition and Sales\, Phoenix Feeds and Nutrition\n\nBradley St. Pierre
 \, Pleasant Valley Farm\, Richford\n\nStephanie Pope\, Iroquois Acres Fa
 rm\n\nMegan Rowell\, Green Mountain Farm\, Sheldon\, VT\n\nSkylar Blaney
 \, Green Mountain Farm\, Sheldon\, VT\n\nJenne Hull\, Riverview Farm\, F
 ranklin\, VT\n\nDavid Defreest\, Defreest Farms\, Warren\, VT\n\nElaine 
 Brisson\, Daona Farm\, Shoreham\, VT\n\nKylie Quesnel Chittenden\, Richv
 ille Farms\, Shoreham\, VT\n\nLance Wood\, Woodnotch Dairy\, Shoreham\, 
 VT\n\nLee Wood\, Woodnotch Dairy\, Shoreham\, VT\n\nLJ Wood\, Woodnotch 
 Dairy\, Shoreham\, VT - Room 28
END:VALARM
END:VCALENDAR
