BEGIN:VCALENDAR
CALSCALE:GREGORIAN
PRODID:-//Ben Fortuna//iCal4j 1.0//EN
VERSION:2.0
BEGIN:VEVENT
DTSTAMP:20260122T160010Z
DTSTART:20260122T102500
DTEND:20260122T122500
SUMMARY:Supreme Court Justice Confirmation Hearing\n\nWitness Testimony\n
 \nJeffrey Amestoy\, Former Chief Justice of the Vermont Supreme Court - 
 Room 1
TZID:America/New_York
UID:20260122T160114Z-uidGen@richgoldman-357e73
END:VEVENT
BEGIN:VALARM
TRIGGER:-PT15M
ACTION:DISPLAY
DESCRIPTION:Supreme Court Justice Confirmation Hearing\n\nWitness Testimo
 ny\n\nJeffrey Amestoy\, Former Chief Justice of the Vermont Supreme Cour
 t - Room 1
END:VALARM
END:VCALENDAR
