BEGIN:VCALENDAR
CALSCALE:GREGORIAN
PRODID:-//Ben Fortuna//iCal4j 1.0//EN
VERSION:2.0
BEGIN:VEVENT
DTSTAMP:20260122T170011Z
DTSTART:20260122T103000
DTEND:20260122T123000
SUMMARY:S. 224 - An act relating to the management of the State’s lakes\n
 \nLaura Dlugolecki\, Lake and Shoreland Permitting Analyst\, Agency of N
 atural Resources\n\nJenny Austin\, Manager Lakes and Ponds - Room 8
TZID:America/New_York
UID:20260122T170019Z-uidGen@richgoldman-357e73
END:VEVENT
BEGIN:VALARM
TRIGGER:-PT15M
ACTION:DISPLAY
DESCRIPTION:S. 224 - An act relating to the management of the State’s lak
 es\n\nLaura Dlugolecki\, Lake and Shoreland Permitting Analyst\, Agency 
 of Natural Resources\n\nJenny Austin\, Manager Lakes and Ponds - Room 8
END:VALARM
END:VCALENDAR
