BEGIN:VCALENDAR
CALSCALE:GREGORIAN
PRODID:-//Ben Fortuna//iCal4j 1.0//EN
VERSION:2.0
BEGIN:VEVENT
DTSTAMP:20260120T160010Z
DTSTART:20260122T113000
DTEND:20260122T133000
SUMMARY:H. 710 - An act relating to defining electricity generating facil
 ities\n\nBill Introduction\n\nRep. R. Scott Campbell\, Bill Sponsor - Ro
 om 32
TZID:America/New_York
UID:20260120T160107Z-uidGen@richgoldman-357e73
END:VEVENT
BEGIN:VALARM
TRIGGER:-PT15M
ACTION:DISPLAY
DESCRIPTION:H. 710 - An act relating to defining electricity generating f
 acilities\n\nBill Introduction\n\nRep. R. Scott Campbell\, Bill Sponsor 
 - Room 32
END:VALARM
END:VCALENDAR
