BEGIN:VCALENDAR
CALSCALE:GREGORIAN
PRODID:-//Ben Fortuna//iCal4j 1.0//EN
VERSION:2.0
BEGIN:VEVENT
DTSTAMP:20260122T170011Z
DTSTART:20260122T104500
DTEND:20260122T124500
SUMMARY:Wood Product Manufacturers report\n\nComments on the LURB Report\
 n\nKatharine Servidio\, Forest Economy Program Manager\, Department of F
 orests\, Parks and Recreation\n\nOliver Pierson\, State Forester and Dir
 ector of the Forests Division\, Department of Forests\, Parks and Recrea
 tion - Room 49
TZID:America/New_York
UID:20260122T170022Z-uidGen@richgoldman-357e73
END:VEVENT
BEGIN:VALARM
TRIGGER:-PT15M
ACTION:DISPLAY
DESCRIPTION:Wood Product Manufacturers report\n\nComments on the LURB Rep
 ort\n\nKatharine Servidio\, Forest Economy Program Manager\, Department 
 of Forests\, Parks and Recreation\n\nOliver Pierson\, State Forester and
  Director of the Forests Division\, Department of Forests\, Parks and Re
 creation - Room 49
END:VALARM
END:VCALENDAR
