BEGIN:VCALENDAR
CALSCALE:GREGORIAN
PRODID:-//Ben Fortuna//iCal4j 1.0//EN
VERSION:2.0
BEGIN:VEVENT
DTSTAMP:20260122T130011Z
DTSTART:20260122T104500
DTEND:20260122T124500
SUMMARY:S. 190 - An act relating to the Green Mountain Care Board\, refer
 ence-based pricing\, and hospital outsourcing of clinical care\n\nWalkth
 rough\n\nJennifer Carbee\, Deputy Chief Counsel\, Office of Legislative 
 Counsel\n\nEmily Brown\, Exective Director\, Green Mountain Care Board\n
 \nAlena Berube\, Director of Policy\, Green Mountain Care Board\n\nOwen 
 Foster\, J.D.\, Chair\, Green Mountain Care Board\n\nJessa Barnard\, Exe
 cutive Director\, Vermont Medical Society - Room 17
TZID:America/New_York
UID:20260122T130014Z-uidGen@richgoldman-357e73
END:VEVENT
BEGIN:VALARM
TRIGGER:-PT15M
ACTION:DISPLAY
DESCRIPTION:S. 190 - An act relating to the Green Mountain Care Board\, r
 eference-based pricing\, and hospital outsourcing of clinical care\n\nWa
 lkthrough\n\nJennifer Carbee\, Deputy Chief Counsel\, Office of Legislat
 ive Counsel\n\nEmily Brown\, Exective Director\, Green Mountain Care Boa
 rd\n\nAlena Berube\, Director of Policy\, Green Mountain Care Board\n\nO
 wen Foster\, J.D.\, Chair\, Green Mountain Care Board\n\nJessa Barnard\,
  Executive Director\, Vermont Medical Society - Room 17
END:VALARM
END:VCALENDAR
