BEGIN:VCALENDAR
CALSCALE:GREGORIAN
PRODID:-//Ben Fortuna//iCal4j 1.0//EN
VERSION:2.0
BEGIN:VEVENT
DTSTAMP:20260121T220011Z
DTSTART:20260122T110000
DTEND:20260122T130000
SUMMARY:FY26 Budget Adjustment Act\n\nAndrew Stein\, Chief Operating Offi
 cer\, Department of Taxes\n\nEmily Byrne\, Deputy Fiscal Officer\, Joint
  Fiscal Office - Room 9
TZID:America/New_York
UID:20260121T220034Z-uidGen@richgoldman-357e73
END:VEVENT
BEGIN:VALARM
TRIGGER:-PT15M
ACTION:DISPLAY
DESCRIPTION:FY26 Budget Adjustment Act\n\nAndrew Stein\, Chief Operating 
 Officer\, Department of Taxes\n\nEmily Byrne\, Deputy Fiscal Officer\, J
 oint Fiscal Office - Room 9
END:VALARM
END:VCALENDAR
