BEGIN:VCALENDAR
CALSCALE:GREGORIAN
PRODID:-//Ben Fortuna//iCal4j 1.0//EN
VERSION:2.0
BEGIN:VEVENT
DTSTAMP:20260120T190010Z
DTSTART:20260122T104500
DTEND:20260122T124500
SUMMARY:TBD\n\nIntroduction\n\nKesha Ram-Hinsdale\, Reporter\, Vermont Ge
 neral Assembly\n\nBeth St. James\, Legislative Counsel\, Office of Legis
 lative Counsel - Invited - Room 27
TZID:America/New_York
UID:20260120T190202Z-uidGen@richgoldman-357e73
END:VEVENT
BEGIN:VALARM
TRIGGER:-PT15M
ACTION:DISPLAY
DESCRIPTION:TBD\n\nIntroduction\n\nKesha Ram-Hinsdale\, Reporter\, Vermon
 t General Assembly\n\nBeth St. James\, Legislative Counsel\, Office of L
 egislative Counsel - Invited - Room 27
END:VALARM
END:VCALENDAR
