BEGIN:VCALENDAR
CALSCALE:GREGORIAN
PRODID:-//Ben Fortuna//iCal4j 1.0//EN
VERSION:2.0
BEGIN:VEVENT
DTSTAMP:20260121T210010Z
DTSTART:20260122T104500
DTEND:20260122T124500
SUMMARY:H. 626 - An act relating to voyeurism and disclosure of sexually 
 explicit images without consent\n\nWitness Testimony Continued\n\nCharli
 e Gliserman\, Director of Policy\, Vermont Network Against Domestic & Se
 xual Violence\n\nBelle Torke\, Technology Safety Specialist\, Safety Net
  Project of National Network to End Domestic Violence - Room 30
TZID:America/New_York
UID:20260121T210030Z-uidGen@richgoldman-357e73
END:VEVENT
BEGIN:VALARM
TRIGGER:-PT15M
ACTION:DISPLAY
DESCRIPTION:H. 626 - An act relating to voyeurism and disclosure of sexua
 lly explicit images without consent\n\nWitness Testimony Continued\n\nCh
 arlie Gliserman\, Director of Policy\, Vermont Network Against Domestic 
 & Sexual Violence\n\nBelle Torke\, Technology Safety Specialist\, Safety
  Net Project of National Network to End Domestic Violence - Room 30
END:VALARM
END:VCALENDAR
