BEGIN:VCALENDAR
CALSCALE:GREGORIAN
PRODID:-//Ben Fortuna//iCal4j 1.0//EN
VERSION:2.0
BEGIN:VEVENT
DTSTAMP:20260120T160010Z
DTSTART:20260122T114500
DTEND:20260122T134500
SUMMARY:H. 716 - An act relating to the net metering formula\n\nBill Intr
 oduction\n\nRep. Christopher Morrow\, Bill Sponsor - Room 32
TZID:America/New_York
UID:20260120T160109Z-uidGen@richgoldman-357e73
END:VEVENT
BEGIN:VALARM
TRIGGER:-PT15M
ACTION:DISPLAY
DESCRIPTION:H. 716 - An act relating to the net metering formula\n\nBill 
 Introduction\n\nRep. Christopher Morrow\, Bill Sponsor - Room 32
END:VALARM
END:VCALENDAR
