BEGIN:VCALENDAR
CALSCALE:GREGORIAN
PRODID:-//Ben Fortuna//iCal4j 1.0//EN
VERSION:2.0
BEGIN:VEVENT
DTSTAMP:20260120T160010Z
DTSTART:20260122T110000
DTEND:20260122T130000
SUMMARY:Security Training\n\nThis will not be livestreamed due to sensiti
 ve content\n\nAgatha Kessler\, Sergeant at Arms\, Vermont State House\n\
 nJoe Tremblay\, Officer\, Capitol Police Department\n\nJohn Poleway\, Ch
 ief of Police\, Capitol Police Department - Room 34
TZID:America/New_York
UID:20260120T160103Z-uidGen@richgoldman-357e73
END:VEVENT
BEGIN:VALARM
TRIGGER:-PT15M
ACTION:DISPLAY
DESCRIPTION:Security Training\n\nThis will not be livestreamed due to sen
 sitive content\n\nAgatha Kessler\, Sergeant at Arms\, Vermont State Hous
 e\n\nJoe Tremblay\, Officer\, Capitol Police Department\n\nJohn Poleway\
 , Chief of Police\, Capitol Police Department - Room 34
END:VALARM
END:VCALENDAR
