BEGIN:VCALENDAR
CALSCALE:GREGORIAN
PRODID:-//Ben Fortuna//iCal4j 1.0//EN
VERSION:2.0
BEGIN:VEVENT
DTSTAMP:20260122T200010Z
DTSTART:20260122T110500
DTEND:20260122T130500
SUMMARY:Security Training\n\nThis will not be livestreamed due to sensiti
 ve content\n\nJoe Tremblay\, Officer\, Capitol Police Department\n\nAgat
 ha Kessler\, Sergeant at Arms\, Vermont General Assembly - Room 34
TZID:America/New_York
UID:20260122T200018Z-uidGen@richgoldman-357e73
END:VEVENT
BEGIN:VALARM
TRIGGER:-PT15M
ACTION:DISPLAY
DESCRIPTION:Security Training\n\nThis will not be livestreamed due to sen
 sitive content\n\nJoe Tremblay\, Officer\, Capitol Police Department\n\n
 Agatha Kessler\, Sergeant at Arms\, Vermont General Assembly - Room 34
END:VALARM
END:VCALENDAR
